Workbook

Sheet 닥터자르트 공급가 리스트
B2: 닥터자르트 발주서
E3: TOTAL
A4: Product Line | B4: Product Name (국문) | C4: Barcode | D4: 소비자가 (MSRP) | E4: Pcs/Carton
A5: Ctrl+A | B5: 닥터자르트 컨트롤에이 티트리먼트 클렌징 폼(120ml)-KR-BB | C5: 8809642712874 | D5: 21000 | E5: 24
B6: 닥터자르트 컨트롤에이 티트리먼트 모이스처라이저(100ml)-RE-AI | C6: 8809642712898 | D6: 48000 | E6: 24
B7: 닥터자르트 컨트롤에이 티트리먼트 모이스처라이저(50ml)-RE-AI | C7: 8809642712881 | D7: 32000 | E7: 32
B8: 닥터자르트 컨트롤에이 티트리먼트 수딩 스팟(15ml)-RE-AI | C8: 8809642712928 | D8: 23000 | E8: 48
B9: 닥터자르트 컨트롤에이 티트리먼트 토너(120ml)-RE-AI | C9: 8809642712867 | D9: 22000 | E9: 24
B10: 닥터자르트 컨트롤에이 티트리먼트 토너(200ml)-RE-AI | C10: 8809642712904 | D10: 31000 | E10: 18
A11: V7 | B11: 닥터자르트 브이세븐 토닝라이트(50ml)_BB | C11: 8809844995099 | D11: 53000 | E11: 24
A12: 더마스크 | B12: 닥터자르트 더마스크 바이탈 하이드라 솔루션(25g*5ea)-Global-BB | C12: 1210001216891 | D12: 28000 | E12: 24
B13: 닥터자르트 더마스크 수딩 하이드라 솔루션(25g*5ea)-Global-BB | C13: 1210001216914 | D13: 28000 | E13: 24
B14: 닥터자르트 더마스크 마이크로젯 브라이트닝 솔루션(30g*5ea)-GB-BB | C14: 8809642712652 | D14: 28000 | E14: 24
B15: 닥터자르트 더마스크 마이크로젯 클리어링 솔루션(27g*5ea)-GB-BB | C15: 8809642712645 | D15: 28000 | E15: 24
B16: 닥터자르트 더마스크 바이탈 하이드라 솔루션 프로(26g*5ea)-Global-BB | C16: 8809844995129 | D16: 30000 | E16: 24
B17: 닥터자르트 더마스크 수딩 하이드라 솔루션 프로(26g*5ea)-Global-BB | C17: 8809844995181 | D17: 30000 | E17: 24
B18: 닥터자르트 더마스크 페이스 마스크 투 고(15g*5ea)-GB-BB | C18: 8809844992616 | D18: 62000 | E18: 24
B19: 닥터자르트 더마스크 포렉팅 솔루션(28g*5ea)-Global-BB | C19: 8809844995082 | D19: 28000 | E19: 24
A20: 더마클리어 | B20: 닥터자르트 더마클리어™ pH 폼 클렌저 (120ml)-GB-BC | C20: 8809933611657 | D20: 22000 | E20: 24
B21: 닥터자르트 더마클리어 클렌징 폼 120ml | C21: 8809933611633 | D21: 22000 | E21: 24
A22: 더메이크업 | B22: 닥터자르트 더메이크업 리쥬비네이팅 뷰티 밤 01 라이트 에스피에프 40-(50ml)-KR-BB | C22: 8809844997802 | D22: 32000 | E22: 24
B23: 닥터자르트 더메이크업 리쥬비네이팅 뷰티 밤 02 미디엄 에스피에프 40 (50ml)-KR-BB | C23: 8809844997819 | D23: 32000 | E23: 24
B24: 닥터자르트 더메이크업 비쓰리 베리어 뷰티 밤 01 라이트(30ml)-KR-BB | C24: 8809844991756 | D24: 36000 | E24: 24
B25: 닥터자르트 더메이크업 비쓰리 베리어 뷰티 밤 02 미디엄(30ml)-KR-BB | C25: 8809844991763 | D25: 36000 | E25: 24
B26: 닥터자르트 프리미엄 뷰티 밤 01 페어-라이트 | C26: 8809844990667 | D26: 48000 | E26: 24
A27: 바이탈하이드라솔루션 | B27: 닥터자르트 바이탈 하이드라 솔루션 하이드로 플럼프 워터 크림(50ml)-GB-BB | C27: 8809844996782 | D27: 38000 | E27: 24
B28: 닥터자르트 바이탈 하이드라 솔루션 하이드로 플럼프 트리트먼트 에센스(150ml)-GB-BB | C28: 8809844996775 | D28: 36000 | E28: 24
B29: 닥터자르트 바이탈 하이드라 솔루션 하이드로 플럼프 오버나이트 마스크(75ml)-GB-BB | C29: 8809844996799 | D29: 36000 | E29: 24
A30: 세라마이딘 | B30: 닥터자르트 세라마이딘 스킨 베리어 모이스처라이징 마스크(22g*5ea)-GB-BB | C30: 8809844993125 | D30: 28000 | E30: 24
B31: 닥터자르트 세라마이딘 스킨 베리어 모이스처라이징 크림(50ml)-GB-BB | C31: 8809844993101 | D31: 50000 | E31: 24
B32: 닥터자르트 세라마이딘 크림-인퓨즈드 마스크(18g*5ea)-GB-BB | C32: 8809844995303 | D32: 44000 | E32: 24
B33: 닥터자르트 세라마이딘 스킨 베리어 세럼 토너(150ml)-GB-BB | C33: 8809844993095 | D33: 40000 | E33: 24
B34: 닥터자르트 세라마이딘 스킨 베리어 모이스처라이징 밀키 로션(50ml)-GB-BB | C34: 8809844997604 | D34: 49000 | E34: 24
B35: 닥터자르트 세라마이딘 립밤(7ml)-GB-BB | C35: 8809844997628 | D35: 20000 | E35: 144
B36: 닥터자르트 세라마이딘 스킨 베리어 모이스처라이징 크림(75ml)-GB-BC | C36: 8809844999172 | D36: 67000 | E36: 24
B37: 닥터자르트 세라마이딘 모이스처라이징 핸드크림(100ml)-GB-BB | C37: 8809844997611 | D37: 30000 | E37: 24
B38: 닥터자르트 세라마이딘 울트라 모이스처라이징 크림(50ml)-OY-KR-BB | C38: 8809844996997 | D38: 51000 | E38: 24
A39: 시카페어 | B39: 닥터자르트 시카페어 인텐시브 수딩 리페어 세럼 마스크 (25g*5ea)-바코드유-GB-BB | C39: 8809844997192 | D39: 32000 | E39: 24
B40: 닥터자르트 시카페어 인텐시브 수딩 리페어 크림(50ml)-GB-BB | C40: 8809844996515 | D40: 50000 | E40: 24
B41: 닥터자르트 시카페어 쏘 수딩 트리트먼트(30ml)-GLOBAL-BB | C41: 8809844993576 | D41: 58000 | E41: 72
...

Sheet SAP오더_ZOR_ZFRE
A1: 발주금액
A2: FY25 May | B2: 확정금액 (+Vat) | C2: 확정금액 (-Vat) | D2: vs. LE
A3: 1차 | B3: 87654600 | C3: =B3/1.1 -> 79686000 | D3: =C3/$C$11 -> 0.15180112
A4: 2차 | B4: 165984000 | C4: =B4/1.1 -> 1.5089455e+08 | D4: =C4/$C$11 -> 0.28745277
A5: 3차 | B5: 98236080 | C5: =B5/1.1 -> 89305527 | D5: =C5/$C$11 -> 0.17012623
A6: 4차 | B6: 139338400 | C6: =B6/1.1 -> 1.2667127e+08 | D6: =C6/$C$11 -> 0.24130765
A7: 5차 | B7: 35878080 | C7: =B7/1.1 -> 32616436 | D7: =C7/$C$11 -> 0.062134021
A8: 6차 | B8: 50339360 | C8: =B8/1.1 -> 45763055 | D8: =C8/$C$11 -> 0.087178212
A9: 7차 | C9: =B9/1.1 -> 0 | D9: =C9/$C$11 -> 0
A10: 8차 | C10: =B10/1.1 -> 0 | D10: =C10/$C$11 -> 0
A11: Total | C11: =SUM(C3:C8) -> 5.2493684e+08 | D11: 500000000
A19: 발주서_ZOR | G19: 발주서 = 발주확정수량 체크 | K19: 발주서_ZFRE
A20: MATERIAL CODE | B20: DESCRIPTION (=제품명) | C20: QTY | D20: NET Price | E20: NET Price | G20: QTY | H20: 확정금액 | I20: TOTAL AMT | K20: Product Code | L20: DESCRIPTION (=제품명) | M20: QTY
B21: =IFERROR(VLOOKUP(A:A,SKU_NAME!A:C,2,0),"") | C21: =IFERROR(VLOOKUP(A21,'닥터자르트 공급가 리스트'!A:E,14,0),"0") -> 0 | D21: =IFERROR(VLOOKUP(A21,'닥터자르트 공급가 리스트'!A:E,6,0)*40%,"0") -> 0 | E21: =C21*D21 -> 0 | G21: =SUM(C21:C1048576) -> 0 | H21: ='닥터자르트 공급가 리스트'!#REF! -> #REF! | I21: =SUM(E21:E1048576) -> 0 | K21: H3BS01R000 | L21: =VLOOKUP(K:K,SKU_NAME!A:C,2,0) -> DMSK VHS 5EA-GB | M21: =IFERROR(VLOOKUP(K:K,A:E,3,0),"")
B22: =IFERROR(VLOOKUP(A:A,SKU_NAME!A:C,2,0),"") | C22: =IFERROR(VLOOKUP(A22,'닥터자르트 공급가 리스트'!A:E,14,0),"0") -> 0 | D22: =IFERROR(VLOOKUP(A22,'닥터자르트 공급가 리스트'!A:E,6,0)*40%,"0") -> 0 | E22: =C22*D22 -> 0 | G22: ='닥터자르트 공급가 리스트'!#REF!=SAP오더_ZOR_ZFRE!G21 -> #REF! | H22: *발주확정금액 | I22: *40%금액 | K22: H3BW01R000 | L22: =VLOOKUP(K:K,SKU_NAME!A:C,2,0) -> DMSK SHS 5EA-GB | M22: =IFERROR(VLOOKUP(K:K,A:E,3,0),"")
B23: =IFERROR(VLOOKUP(A:A,SKU_NAME!A:C,2,0),"") | C23: =IFERROR(VLOOKUP(A23,'닥터자르트 공급가 리스트'!A:E,14,0),"0") -> 0 | D23: =IFERROR(VLOOKUP(A23,'닥터자르트 공급가 리스트'!A:E,6,0)*40%,"0") -> 0 | E23: =C23*D23 -> 0
B24: =IFERROR(VLOOKUP(A:A,SKU_NAME!A:C,2,0),"") | C24: =IFERROR(VLOOKUP(A24,'닥터자르트 공급가 리스트'!A:E,14,0),"0") -> 0 | D24: =IFERROR(VLOOKUP(A24,'닥터자르트 공급가 리스트'!A:E,6,0)*40%,"0") -> 0 | E24: =C24*D24 -> 0
B25: =IFERROR(VLOOKUP(A:A,SKU_NAME!A:C,2,0),"") | C25: =IFERROR(VLOOKUP(A25,'닥터자르트 공급가 리스트'!A:E,14,0),"0") -> 0 | D25: =IFERROR(VLOOKUP(A25,'닥터자르트 공급가 리스트'!A:E,6,0)*40%,"0") -> 0 | E25: =C25*D25 -> 0
B26: =IFERROR(VLOOKUP(A:A,SKU_NAME!A:C,2,0),"") | C26: =IFERROR(VLOOKUP(A26,'닥터자르트 공급가 리스트'!A:E,14,0),"0") -> 0 | D26: =IFERROR(VLOOKUP(A26,'닥터자르트 공급가 리스트'!A:E,6,0)*40%,"0") -> 0 | E26: =C26*D26 -> 0
B27: =IFERROR(VLOOKUP(A:A,SKU_NAME!A:C,2,0),"") | C27: =IFERROR(VLOOKUP(A27,'닥터자르트 공급가 리스트'!A:E,14,0),"0") -> 0 | D27: =IFERROR(VLOOKUP(A27,'닥터자르트 공급가 리스트'!A:E,6,0)*40%,"0") -> 0 | E27: =C27*D27 -> 0
B28: =IFERROR(VLOOKUP(A:A,SKU_NAME!A:C,2,0),"") | C28: =IFERROR(VLOOKUP(A28,'닥터자르트 공급가 리스트'!A:E,14,0),"0") -> 0 | D28: =IFERROR(VLOOKUP(A28,'닥터자르트 공급가 리스트'!A:E,6,0)*40%,"0") -> 0 | E28: =C28*D28 -> 0
B29: =IFERROR(VLOOKUP(A:A,SKU_NAME!A:C,2,0),"") | C29: =IFERROR(VLOOKUP(A29,'닥터자르트 공급가 리스트'!A:E,14,0),"0") -> 0 | D29: =IFERROR(VLOOKUP(A29,'닥터자르트 공급가 리스트'!A:E,6,0)*40%,"0") -> 0 | E29: =C29*D29 -> 0
B30: =IFERROR(VLOOKUP(A:A,SKU_NAME!A:C,2,0),"") | C30: =IFERROR(VLOOKUP(A30,'닥터자르트 공급가 리스트'!A:E,14,0),"0") -> 0 | D30: =IFERROR(VLOOKUP(A30,'닥터자르트 공급가 리스트'!A:E,6,0)*40%,"0") -> 0 | E30: =C30*D30 -> 0
B31: =IFERROR(VLOOKUP(A:A,SKU_NAME!A:C,2,0),"") | C31: =IFERROR(VLOOKUP(A31,'닥터자르트 공급가 리스트'!A:E,14,0),"0") -> 0 | D31: =IFERROR(VLOOKUP(A31,'닥터자르트 공급가 리스트'!A:E,6,0)*40%,"0") -> 0 | E31: =C31*D31 -> 0
B32: =IFERROR(VLOOKUP(A:A,SKU_NAME!A:C,2,0),"") | C32: =IFERROR(VLOOKUP(A32,'닥터자르트 공급가 리스트'!A:E,14,0),"0") -> 0 | D32: =IFERROR(VLOOKUP(A32,'닥터자르트 공급가 리스트'!A:E,6,0)*40%,"0") -> 0 | E32: =C32*D32 -> 0
B33: =IFERROR(VLOOKUP(A:A,SKU_NAME!A:C,2,0),"") | C33: =IFERROR(VLOOKUP(A33,'닥터자르트 공급가 리스트'!A:E,14,0),"0") -> 0 | D33: =IFERROR(VLOOKUP(A33,'닥터자르트 공급가 리스트'!A:E,6,0)*40%,"0") -> 0 | E33: =C33*D33 -> 0
B34: =IFERROR(VLOOKUP(A:A,SKU_NAME!A:C,2,0),"") | C34: =IFERROR(VLOOKUP(A34,'닥터자르트 공급가 리스트'!A:E,14,0),"0") -> 0 | D34: =IFERROR(VLOOKUP(A34,'닥터자르트 공급가 리스트'!A:E,6,0)*40%,"0") -> 0 | E34: =C34*D34 -> 0
... B36: =IFERROR(VLOOKUP(A:A,SKU_NAME!A:C,2,0),"") | C36: =IFERROR(VLOOKUP(A36,'닥터자르트 공급가 리스트'!A:E,14,0),"0") -> 0 | D36: =IFERROR(VLOOKUP(A36,'닥터자르트 공급가 리스트'!A:E,6,0)*40%,"0") -> 0 | E36: =C36*D36 -> 0

Sheet SKU_NAME
A1: Model | B1: Model Name | C1: 국문명
A2: H0U3400000 | B2: CICA MILKY LOTION 1.5ML/.05FLOZ | C2: 닥터자르트 시카페어 밀키로션 1.5ml
A3: H71F400000 | B3: EVSD MOIST SUN 1ML/.03FLOZ | C3: 닥터자르트 에브리 선 데이 모이스처라이징 선(1ml)-KR-BB
A4: H7XX400000 | B4: VHS PLUMP WATER CREAM 1.5ML/.05FLOZ | C4: 닥터자르트 바이탈 하이드라 솔루션 하이드로 플럼프 워터 크림(1.5ml)-GB-BB
A5: H38S40R000 | B5: CICAPAIR SO SOOTHING TRE 1.5ML/.05FLOZ | C5: 닥터자르트 시카페어 쏘 수딩 트리트먼트(1.5ml)
A6: H7QP700001 | B6: SHOPPINGBAG S DR.JART BRAND SHOPPING BA | C6: 닥터자르트 쇼핑백 S_컬러
A7: H0Q4400000 | B7: CERA SB MILKY LOT 1.5ML/.05FLOZ | C7: 닥터자르트 세라마이딘 스킨 베리어 모이스처라이징 밀키 로션(1.5ml)-GB-BC
A8: H71Y400000 | B8: CERA SB CREAM 1.5ML/.05FLOZ | C8: 닥터자르트 세라마이딘 스킨 베리어 모이스처라이징 크림(1.5ml)-GB-BB
A9: H7TT400000 | B9: CICA INT GEL CREAM 1.5ML/.05FLOZ | C9: 닥터자르트 시카페어 인텐시브 수딩 리페어 젤 크림(1.5ml)-단상자무 바코드유-GB-BB
A10: H29B700001 | B10: KAKAOTALK YELLOW GIFT POUCH YELLOW | C10: 카카오톡 옐로우기프트 파우치(옐로우)
A11: H0Q7400000 | B11: CERA EYE CREAM 1ML/.03FLOZ | C11: 닥터자르트 세라마이딘 모이스처라이징 아이크림 1ml
A12: H7Y1400000 | B12: VHS PLUMP ESSENCE 15ML/.5FLOZ | C12: 닥터자르트 바이탈 하이드라 솔루션 하이드로 플럼프 트리트먼트 에센스(15ml)-단상자무-GB-BB
... A99: H6MN010000 | B99: CERA SB MASK 22GM/.77OZ | C99: 닥터자르트 세라마이딘 스킨 베리어 모이스처라이징 마스크(22g)-GB-BB
A100: H8Q101R000 | B100: CERA HAND CREAM 50ML/1.69FLOZ
A101: H23S700001 | B101: GREEN MINI POUCH | C101: 닥터자르트 그린 미니 파우치-GWP-BB
A102: H5HL010000 | B102: DMSK MUD MASK 13GM/.45OZ | C102: 닥터자르트 더마스크 포어레미디 퓨리파잉 머드 마스크(13g)-BA
A103: H89L700001 | B103: TOTEBAG DR.JART+ BIG WATERPROOF BAG | C103: 닥터자르트 토트백+빅 워트프로프 백
A104: H4SG01R000 | B104: EVERY SUN DAY SUN STICK( | C104: 닥터자르트 에브리 선 데이 선 스틱(19g)-KR_NEW
A105: H89G700001 | B105: POUCH DR.JART+ MESH MAKEUP POUCH | C105: 닥터자르트 메쉬 메이크업 파우치
A106: H89F700001 | B106: ORNAMENT DR.JART+ JELLY BEAR LUGGAGE TAG | C106: 닥터자르트 젤리베어 러기지 택
A107: H4BP01R000 | B107: BRTM PLUMP MASK (5EA) | C107: 닥터자르트 브라이타민 플럼프 마스크 5매
A108: H31S010000 | B108: DCLR CLEANSING FOAM 120ML/4.1FLOZ | C108: 닥터자르트 더마클리어 클렌징 폼 120ml
A109: H23D700001 | B109: GREEN TRAVEL POUCH | C109: 닥터자르트 그린 트래블 파우치-GWP-BB
A110: H3PD01K000 | B110: BRIGHTAMIN V7 TONING LIG 15ML/.5FLOZ | C110: 닥터자르트 브이타민 V7 토닝라이트 15ml
A111: H0ED010000 | B111: CERMAIDIN SB CREAM 75ML/2.5FLOZ | C111: 닥터자르트 세라마이딘 스킨 베리어 모이스처라이징 크림(75ml)-GB-BC
A112: H0US700001 | B112: VHS ICE TRAY | C112: 닥터자르트 VHS 아이스 트레이-GWP-BC
... A196: H7T8010000 | B196: CERA SB SERUM TONER 30ML/1FLOZ | C196: 닥터자르트 세라마이딘 스킨 베리어 세럼 토너(30ml)-GB-BB
A197: H4DC700001 | B197: PRESSBOX_CERAMIDIN CREATIVE MAILER KIT | C197: 0
A198: H5Y7010161 | B198: SBA-0217, LABEL SEAL | C198: 0
A199: H7JH03A000 | B199: PREM BB SPF 50-03 MEDIUM 40ML/1.4FLOZ | C199: 0
A200: H01S01L000 | B200: CERA SB MASK
A201: H02Q400000 | B201: CICA INT TRMT LOTION 15ML/.5FLOZ
A202: H02U400000 | B202: CICA INT GEL CREAM 7ML/.24FLOZ
A203: H0DK400000 | B203: VHS PLUMP WATER CREAM 7ML/.24FLOZ
A204: H0DV018000 | B204: CICA REDNESS RESCUE KIT
A205: H0QJ400000 | B205: CICA CCT 1ML/.03FLOZ
A206: H0QK010000 | B206: CICA CCT 55ML/1.85FLOZ
A207: H0QK01A000 | B207: CICA CCT 55ML/1.85FLOZ
A208: H0QL010000 | B208: CICA CCT 15ML/.5FLOZ
A209: H0QL01A000 | B209: CICA CCT 15ML/.5FLOZ
...
